BEGIN:VCALENDAR
PRODID:-//AT Content Types//AT Event//EN
VERSION:2.0
METHOD:PUBLISH
BEGIN:VEVENT
DTSTAMP:20260423T222148Z
CREATED:20260213T194049Z
UID:ATEvent-cfd220586b9949e4a78617111b42fd80
LAST-MODIFIED:20260219T172728Z
SUMMARY:Rostovtzeff Lecture Series: The Emergence\, Adventures and Legacies of Early Farming in Western Eurasia
DTSTART:20260420T213000Z
DTEND:20260420T223000Z
DESCRIPTION:This lecture will take place in person at ISAW. Registrati
 on is required\; click through for the registration link. This lecture
  series will consider current archaeological evidence for the emergenc
 e of mixed farming in western Asia\, its dispersal and establishment a
 cross Europe and the long-term creativity and resilience of early farm
 ing households and communities.
LOCATION:ISAW Lecture Hall
CONTACT:isaw@nyu.edu
CLASS:PUBLIC
END:VEVENT
END:VCALENDAR
