BEGIN:VCALENDAR
PRODID:-//AT Content Types//AT Event//EN
VERSION:1.0
BEGIN:VEVENT
DTSTART:20260416T213000Z
DTEND:20260416T223000Z
DCREATED:20260213T194044Z
UID:ATEvent-282f6370a3414715b781d6214872c4a5
SEQUENCE:0
LAST-MODIFIED:20260219T172714Z
SUMMARY:Rostovtzeff Lecture Series: The Emergence\, Adventures and Legacies of Early Farming in Western Eurasia
DESCRIPTION:This lecture will take place in person at ISAW. Registrati
 on is required\; click through for the registration link. This lecture
  series considers current archaeological evidence for the emergence of
  mixed farming in western Asia\, its dispersal and establishment acros
 s Europe and the long-term creativity and resilience of early farming 
 households and communities.
LOCATION:ISAW Lecture Hall
PRIORITY:3
TRANSP:0
END:VEVENT
END:VCALENDAR
