BEGIN:VCALENDAR
PRODID:-//AT Content Types//AT Event//EN
VERSION:2.0
METHOD:PUBLISH
BEGIN:VEVENT
DTSTAMP:20260423T222148Z
CREATED:20260213T153410Z
UID:ATEvent-59f5c126e81842bd971caac62993ab7b
LAST-MODIFIED:20260219T172705Z
SUMMARY:Rostovtzeff Lecture Series: The Emergence\, Adventures and Legacies of Early Farming in Western Eurasia
DTSTART:20260414T213000Z
DTEND:20260414T223000Z
DESCRIPTION:This lecture will take place in person at ISAW. Registrati
 on is required\; click through for the registration link. This lecture
  begins with considering current archaeological evidence for the emerg
 ence of mixed farming in western Asia\, its dispersal and establishmen
 t across Europe and the long-term creativity and resilience of early f
 arming households and communities.
LOCATION:ISAW Lecture Hall
CONTACT:isaw@nyu.edu
CLASS:PUBLIC
END:VEVENT
END:VCALENDAR
