BEGIN:VCALENDAR
PRODID:-//AT Content Types//AT Event//EN
VERSION:1.0
BEGIN:VEVENT
DTSTART:20251119T223000Z
DTEND:20251119T233000Z
DCREATED:20251027T165219Z
UID:ATEvent-c7d9a79f55044af69d1755151cb1de22
SEQUENCE:0
LAST-MODIFIED:20251028T205821Z
SUMMARY:Rodin's Egypt Gallery Talk: Curators in Conversation
DESCRIPTION:This event will take place in person. Registration is requ
 ired\; click through for the registration link. Please join us as Carl
  Walsh\, ISAW Assistant Curator\, hosts a conversation with Bénédict
 e Garnier\, Musée Rodin\, in the gallery for a behind the scenes look
  at Rodin’s Egypt. Benedicte and Carl will address the themes of the
  exhibition\, discuss Rodin’s sculpture and his Egyptian antiquities
  on display\, and explore comparative perspectives on the representati
 on of the human.
LOCATION:ISAW Gallery
PRIORITY:3
TRANSP:0
END:VEVENT
END:VCALENDAR
