BEGIN:VCALENDAR
PRODID:-//AT Content Types//AT Event//EN
VERSION:2.0
METHOD:PUBLISH
BEGIN:VEVENT
DTSTAMP:20260419T155146Z
CREATED:20250224T194832Z
UID:ATEvent-2c40ea61dcaf4660844e5627825a85ee
LAST-MODIFIED:20250708T145025Z
SUMMARY:Rostovtzeff Lecture Series: Power at Hand: Luxury and the Contestation of Political Identities in Hellenistic Asia and the Post-Achaemenid Iranian World
DTSTART:20250501T213000Z
DTEND:20250501T233000Z
DESCRIPTION:This lecture will take place in person at ISAW. Registrati
 on is required\; click through for the registration link. This lecture
  examines Arsacid luxury material beyond Iran both as object and idea.
  As under the Achaemenids before and Sasanians after\, these charismat
 ic objects potentially entangled or “assembled” aspects of identit
 ies of those outside the empire at a range of societal levels\, includ
 ing those who had dealings with the empire and those who encountered t
 hem even in negative and in reaction.
LOCATION:ISAW Lecture Hall
CONTACT:isaw@nyu.edu
CLASS:PUBLIC
END:VEVENT
END:VCALENDAR
