BEGIN:VCALENDAR
PRODID:-//AT Content Types//AT Event//EN
VERSION:2.0
METHOD:PUBLISH
BEGIN:VEVENT
DTSTAMP:20260423T220329Z
CREATED:20250224T194340Z
UID:ATEvent-2088008be3b045e698ab697ee2d88e86
LAST-MODIFIED:20250226T220140Z
SUMMARY:Rostovtzeff Lecture Series: Power at Hand: Luxury and the Contestation of Political Identities in Hellenistic Asia and the Post-Achaemenid Iranian World
DTSTART:20250429T213000Z
DTEND:20250429T223000Z
DESCRIPTION:This lecture will take place in person at ISAW. Registrati
 on is required\; click through for the registration link. This lecture
  will focus on the development of an Arsacid tradition of precious met
 al and ivory vessels and a new Iranian court culture that participated
  in both the Hellenistic and Iranian ecumenes.
LOCATION:ISAW Lecture Hall
CONTACT:isaw@nyu.edu
CLASS:PUBLIC
END:VEVENT
END:VCALENDAR
