BEGIN:VCALENDAR
PRODID:-//AT Content Types//AT Event//EN
VERSION:1.0
BEGIN:VEVENT
DTSTART:20250312T213000Z
DTEND:20250312T230000Z
DCREATED:20240910T211420Z
UID:ATEvent-ee1cb8d35d0641e1a82b60a711da415a
SEQUENCE:0
LAST-MODIFIED:20240912T185851Z
SUMMARY:ISAW Library Events: Strike: Labor\, Unions\, and Resistance in the Roman Empire
DESCRIPTION:This lecture is the third in the ISAW Libraries events ser
 ies for the 2024-2025 academic year. It will take place in person at I
 SAW. Registration is required\; click through for the registration lin
 k. Sarah Bond will share some of her research from her recently publis
 hed book Strike: Labor\, Unions\, and Resistance in the Roman Empire (
 Yale University Press)\, exploring how Roman workers used strikes\, bo
 ycotts\, riots\, and rebellion to get their voicesâ€”and their laborâ€
 ”acknowledged.
LOCATION:ISAW Lecture Hall
PRIORITY:3
TRANSP:0
END:VEVENT
END:VCALENDAR
