BEGIN:VCALENDAR
PRODID:-//AT Content Types//AT Event//EN
VERSION:2.0
METHOD:PUBLISH
BEGIN:VEVENT
DTSTAMP:20260421T090736Z
CREATED:20250321T202611Z
UID:ATEvent-3ddb455286a14e0a8e1bf960f3d7cbb1
LAST-MODIFIED:20250402T201023Z
SUMMARY:Uncovering Kimirek-Kum 1: Exploring a Forgotten Delta and Central Asia’s Bronze Age-Iron Age Transition in Central Uzbekistan
DTSTART:20250408T213000Z
DTEND:20250408T223000Z
DESCRIPTION:This lecture will take place in person at ISAW. Registrati
 on is required\; click through for the registration link. This talk ou
 tlines the results and ongoing archaeological investigations of KK1’
 s diverse remains,\nincluding ceramic and metallurgical analyses\, bio
 -archaeological and ecological studies\, and broader palaeo-hydrologic
 al and landscape investigations.
LOCATION:ISAW Lecture Hall
CONTACT:isaw@nyu.edu
CLASS:PUBLIC
END:VEVENT
END:VCALENDAR
