BEGIN:VCALENDAR
PRODID:-//AT Content Types//AT Event//EN
VERSION:1.0
BEGIN:VEVENT
DTSTART:20250712T170000Z
DTEND:20250712T190000Z
DCREATED:20250612T183535Z
UID:ATEvent-e4170c2e4084494dad98c1c46225736f
SEQUENCE:0
LAST-MODIFIED:20250612T200955Z
SUMMARY:Etruscan Weaving Workshop: Make your Own Mini-Tapestry!
DESCRIPTION:Come join Elizabeth Clancy\, an NYU alumni and experimenta
 l archaeologist working on weaving and textiles in the ancient world\,
  in a hands-on workshop exploring how the ancient Etruscans wove texti
 les and clothing. Try your hand at spinning fleece into yarn using a s
 pindle whorl and make your own mini-tapestry inspired by ancient Etrus
 can designs! Afterwards you can explore the exhibition and come face t
 o face with weaving tools used by Etruscan women to create textiles at
  the temple of Poggio Colla. This is a free craft focused workshop wit
 h limited spaces so please make sure to register on the link below!
LOCATION:ISAW Oak Library
PRIORITY:3
TRANSP:0
END:VEVENT
END:VCALENDAR
