BEGIN:VCALENDAR
PRODID:-//AT Content Types//AT Event//EN
VERSION:1.0
BEGIN:VEVENT
DTSTART:20230913T213000Z
DTEND:20230913T223000Z
DCREATED:20230913T151725Z
UID:ATEvent-ed09bbd4cb0b48d39d6c35b5094614a9
SEQUENCE:0
LAST-MODIFIED:20240627T212851Z
SUMMARY:Sacro-Creative Action and the Making of Gods in and beyond Rome
DESCRIPTION:This lecture will take place in person at ISAW. Registrati
 on is required\; click through for the registration link. It is well k
 nown that Roman life was steeped in religious practice. Historians als
 o generally understand that the predation of an imperializing\, centra
 lly administered government in Rome began to deploy religion as a sync
 retizing\, assimilationist and appropriative measure in Italic and Med
 iterranean occupation from the third century BCE\, at least.
LOCATION:ISAW Lecture Hall
PRIORITY:3
TRANSP:0
END:VEVENT
END:VCALENDAR
