BEGIN:VCALENDAR
PRODID:-//AT Content Types//AT Event//EN
VERSION:1.0
BEGIN:VEVENT
DTSTART:20240410T213000Z
DTEND:20240410T223000Z
DCREATED:20240212T195611Z
UID:ATEvent-162812a51a894e5b8a1ac6b9e74f25a9
SEQUENCE:0
LAST-MODIFIED:20240627T212850Z
SUMMARY:Rostovtzeff Lecture Series: The End in Sight? Archaeological Science\, Globalisation and Unsustainability
DESCRIPTION:This lecture -- the second in a four-part series -- will t
 ake place in person at ISAW. Registration is required\; click through 
 for the registration link. The African continent is a vast continent\,
  characterised by different resource gradients. However\, Africa suffe
 red greatly from extractive activities of other continents since time 
 immemorial.
LOCATION:ISAW Lecture Hall
PRIORITY:3
TRANSP:0
END:VEVENT
END:VCALENDAR
