BEGIN:VCALENDAR
PRODID:-//AT Content Types//AT Event//EN
VERSION:1.0
BEGIN:VEVENT
DTSTART:20240408T213000Z
DTEND:20240408T223000Z
DCREATED:20240212T191559Z
UID:ATEvent-d049b040778c4a749f1c13641c83f0ca
SEQUENCE:0
LAST-MODIFIED:20240627T212850Z
SUMMARY:Rostovtzeff Lecture Series: The End in Sight? Archaeological Science\, Globalisation and Unsustainability
DESCRIPTION:This lecture -- the first in a four-part series -- will ta
 ke place in person at ISAW. Registration is required\; click through f
 or the registration link. Great Zimbabwe\, located deep in south-easte
 rn Zimbabwe in southern Africa\, is globally prominent for various rea
 sons\, some graceful but others more disgraceful. It is an impressive 
 architectural ensemble of multi-building settlements that were listed 
 on the UNESCO World Heritage List in 1986.
LOCATION:ISAW Lecture Hall
PRIORITY:3
TRANSP:0
END:VEVENT
END:VCALENDAR
