BEGIN:VCALENDAR
PRODID:-//AT Content Types//AT Event//EN
VERSION:2.0
METHOD:PUBLISH
BEGIN:VEVENT
DTSTAMP:20260420T141556Z
CREATED:20240220T203258Z
UID:ATEvent-211d9665f6cd4059b1f5af0bde3421db
LAST-MODIFIED:20240627T212850Z
SUMMARY:The King and His Industries:
DTSTART:20240327T213000Z
DTEND:20240327T223000Z
DESCRIPTION:This lecture will take place in person at ISAW. Registrati
 on is required\; click through for the registration link. Anyang\, the
  last capital of the Shang dynasty (ca. 1200 to 1000 BCE)\, is one of 
 the most important Bronze Age sites in China. While it is known for th
 e inscribed oracle bones and the royal cemetery\, the site also provid
 es invaluable information on craft production in Bronze Age China.
LOCATION:ISAW Lecture Hall
CONTACT:isaw@nyu.edu
CLASS:PUBLIC
END:VEVENT
END:VCALENDAR
