BEGIN:VCALENDAR
PRODID:-//AT Content Types//AT Event//EN
VERSION:1.0
BEGIN:VEVENT
DTSTART:20230504T210000Z
DTEND:20230504T221500Z
DCREATED:20230327T182741Z
UID:ATEvent-d3f237f781fb4860bec88c957c63daca
SEQUENCE:0
LAST-MODIFIED:20240627T213009Z
SUMMARY:Rostovtzeff Lecture Series:Epistemic Corruption and Epistemic Progress in Ancient Science
DESCRIPTION:This lecture -- the fourth in a four-part series -- will t
 ake place in person at ISAW. Registration is required\; click through 
 for the registration link. All attendees must be in compliance with NY
 U's COVID-19 vaccination requirements and be prepared to present proof
  of compliance if asked to do so. Once we have seen the different ways
  in which knowledge practices can be compromised by corruption\, both 
 in ancient sources themselves and in our understanding of those source
 s\, we can begin to appreciate some of the difficulties that can arise
  in articulating a clear and transhistorical notion of scientific prog
 ress.
LOCATION:ISAW Lecture Hall
PRIORITY:3
TRANSP:0
END:VEVENT
END:VCALENDAR
