BEGIN:VCALENDAR
PRODID:-//AT Content Types//AT Event//EN
VERSION:2.0
METHOD:PUBLISH
BEGIN:VEVENT
DTSTAMP:20260419T172146Z
CREATED:20230327T174254Z
UID:ATEvent-ed26129c0b1a40de9e1f0c0969c1a6a2
LAST-MODIFIED:20240627T213009Z
SUMMARY:Rostovtzeff Lecture Series: Epistemic Corruption and Epistemic Progress in Ancient Science
DTSTART:20230427T210000Z
DTEND:20230427T230000Z
DESCRIPTION:This lecture -- the second in a four-part series -- will t
 ake place in person at ISAW. Registration is required\; click through 
 for the registration link. All attendees must be in compliance with NY
 U's COVID-19 vaccination requirements and be prepared to present proof
  of compliance if asked to do so. Talk of ‘epistemic corruption’ i
 s parasitic on a number of other well-established discourses: politica
 l corruption\, moral corruption\, physiological breakdowns\, and more.
  In this lecture we will explore the ways in which accusations of any 
 one kind of corruption seem to so quickly encompass other kinds.
LOCATION:ISAW Lecture Hall
CONTACT:isaw@nyu.edu
CLASS:PUBLIC
END:VEVENT
END:VCALENDAR
