BEGIN:VCALENDAR
PRODID:-//AT Content Types//AT Event//EN
VERSION:2.0
METHOD:PUBLISH
BEGIN:VEVENT
DTSTAMP:20260419T155017Z
CREATED:20230327T173415Z
UID:ATEvent-24df13ff0908469489471443e8f2f0ad
LAST-MODIFIED:20240627T213009Z
SUMMARY:Rostovtzeff Lecture Series: Epistemic Corruption and Epistemic Progress in Ancient Science
DTSTART:20230425T210000Z
DTEND:20230425T221500Z
DESCRIPTION:This lecture -- the first in a four-part series -- will ta
 ke place in person at ISAW. Registration is required\; click through f
 or the registration link. All attendees must be in compliance with NYU
 's COVID-19 vaccination requirements and be prepared to present proof 
 of compliance if asked to do so. Greek and Latin authors were acutely 
 aware of the problems of knowledge transmission. Not only could manusc
 ripts become corrupted\, as we know all too well today\, or attributed
  to some more famous author\, but also incorrect claims might creep in
 to a scientific tradition all too easily.
LOCATION:ISAW Lecture Hall
CONTACT:isaw@nyu.edu
CLASS:PUBLIC
END:VEVENT
END:VCALENDAR
