BEGIN:VCALENDAR
PRODID:-//AT Content Types//AT Event//EN
VERSION:1.0
BEGIN:VEVENT
DTSTART:20221207T220000Z
DTEND:20221207T230000Z
DCREATED:20230228T162050Z
UID:ATEvent-bfdecce96fb04b32b844d1591a9cabd5
SEQUENCE:0
LAST-MODIFIED:20240627T214102Z
SUMMARY:Expanding the Ancient World Workshop
DESCRIPTION:Materials provided to participants of this event are now a
 vailable for download. Expanding the Ancient World is a series of prof
 essional development workshops and online resources for teachers. The 
 Sogdians were a diverse community of merchant families occupying the o
 ases regions of Central Asia between the 4th-8th centuries CE. This wo
 rkshop will present texts and materials for discussing the interconnec
 ted and multicultural society of the Sogdians along the so-called "Sil
 k Roads," with an emphasis on personal experiences at home and abroad.
 
LOCATION:Online
PRIORITY:3
TRANSP:0
END:VEVENT
END:VCALENDAR
