BEGIN:VCALENDAR
PRODID:-//AT Content Types//AT Event//EN
VERSION:1.0
BEGIN:VEVENT
DTSTART:20220509T170000Z
DTEND:20220509T180000Z
DCREATED:20240904T191904Z
UID:ATEvent-92360278c5b74a28935b3962afa69bfd
SEQUENCE:0
LAST-MODIFIED:20241119T181806Z
SUMMARY:If Ports Were Landscapes and Goods Were Beings:
DESCRIPTION:This lecture will take place online. Registration is requi
 red\; click through for the registration link. Zoom information will b
 e provided via confirmation email to registered participants. The term
  ‘port’ in early South Asia can refer to at least four types of lo
 cations: landing places and marketplaces in texts\, findspots of artif
 acts from across the seas\, semi-permanent settlements with foreigners
  awaiting favorable monsoon winds\, and access points for emporia with
  desirable trade goods including animal products (like ivory)\, forest
  tree products (like sap)\, agricultural products (like cotton)\, and 
 human-made products (like metal alloys).
LOCATION:Online
PRIORITY:3
TRANSP:0
END:VEVENT
END:VCALENDAR
