BEGIN:VCALENDAR
PRODID:-//AT Content Types//AT Event//EN
VERSION:2.0
METHOD:PUBLISH
BEGIN:VEVENT
DTSTAMP:20260422T123618Z
CREATED:20210407T184649Z
UID:ATEvent-5a8c24bbe20a422f996e9de62db8d7d3
LAST-MODIFIED:20210407T205038Z
SUMMARY:Analysis of Land\, Water\, and Settlement Through Remote Sensing and Ground Survey:
DTSTART:20210426T170000Z
DTEND:20210426T180000Z
DESCRIPTION:This lecture will take place online. Registration is requi
 red\; click through for the registration link. Zoom information will b
 e provided via confirmation email to registered participants. Understa
 nding dynamic interactions between past populations and their lands ha
 s been one of the primary goals of archaeological studies. In this reg
 ard\, detecting different settlement systems such as sedentary and mob
 ile patterns\, and diverse land-use practices in light of socioeconomi
 c demands and environmental conditions can clarify broader issues of r
 esource management\, sustainability\, and longer-term landscape change
 s.
LOCATION:Online
CONTACT:isaw@nyu.edu
CLASS:PUBLIC
END:VEVENT
END:VCALENDAR
