BEGIN:VCALENDAR
PRODID:-//AT Content Types//AT Event//EN
VERSION:2.0
METHOD:PUBLISH
BEGIN:VEVENT
DTSTAMP:20260422T083151Z
CREATED:20210709T162415Z
UID:ATEvent-597c8bd1ddcc4f0eb3ca77c843237e59
LAST-MODIFIED:20210709T163132Z
SUMMARY:How Global Was the Early Medieval World?
DTSTART:20201029T210000Z
DTEND:20201029T223000Z
DESCRIPTION:This talk introduces the connections between early medieva
 l societies that have previously been studied in isolation. From Ocean
 ia to Europe and beyond\, it transcends conventional disciplinary boun
 daries and synthesizes parallel historiographical narratives.
LOCATION:Online
CONTACT:isaw@nyu.edu
CLASS:PUBLIC
END:VEVENT
END:VCALENDAR
