BEGIN:VCALENDAR
PRODID:-//AT Content Types//AT Event//EN
VERSION:2.0
METHOD:PUBLISH
BEGIN:VEVENT
DTSTAMP:20260421T114838Z
CREATED:20200224T184824Z
UID:ATEvent-83ca90710ffe4d12a11c986c2fab41f4
LAST-MODIFIED:20220706T153519Z
SUMMARY:ISAW Archaeology Day
DTSTART:20200305T220000Z
DTEND:20200306T010000Z
DESCRIPTION:The inaugural Archaeology Day event at ISAW will provide t
 he opportunity for attendees to learn about the various nodes of archa
 eological research undertaken by ISAW community members. The day's pro
 gram will consist of two parts: (1) a poster session in which PhD stud
 ents and Visiting Research Scholars will present their contributions t
 o archaeological research\; and (2) a series of short presentations wi
 th accompanying images by the ISAW faculty summarizing the main resear
 ch questions and results of their various fieldwork projects. Discussi
 on with attendees will take place at a reception following the formal 
 program.
LOCATION:ISAW Lecture Hall
CONTACT:isaw@nyu.edu
CLASS:PUBLIC
END:VEVENT
END:VCALENDAR
