BEGIN:VCALENDAR
PRODID:-//AT Content Types//AT Event//EN
VERSION:2.0
METHOD:PUBLISH
BEGIN:VEVENT
DTSTAMP:20260424T054600Z
CREATED:20191127T212017Z
UID:ATEvent-58ad0f118a054841853055415e4de5d6
LAST-MODIFIED:20200310T192726Z
SUMMARY:CANCELLED: Exhibition Gallery Talk: Object Histories
DTSTART:20200408T160000Z
DTEND:20200408T163000Z
DESCRIPTION:Please Note: This event has been CANCELLED. We apologize f
 or any inconvenience.   \nJoin us in the galleries for a 20-minute in-
 depth discussion of a single object from A Wonder to Behold: Craftsma
 nship and the Creation of Babylon’s Ishtar Gate. In this brief lunch
 time talk\, participants will engage in a guided conversation explorin
 g the specific history\, iconography\, and manufacture of one of the 
 objects on view in our current exhibition.
LOCATION:ISAW Galleries
CATEGORIES:exhibition-event
URL:https://isaw.nyu.edu/events/exhibitions-gallery-talk-object-histories-ishtar-15
CLASS:PUBLIC
END:VEVENT
END:VCALENDAR
