BEGIN:VCALENDAR
PRODID:-//AT Content Types//AT Event//EN
VERSION:1.0
BEGIN:VEVENT
DTSTART:20191004T130000Z
DTEND:20191004T211500Z
DCREATED:20190920T194419Z
UID:ATEvent-ede3c43407524df2823bdeaf2ad094b0
SEQUENCE:0
LAST-MODIFIED:20190920T194520Z
SUMMARY:DAY TWO: Medicine and the Law under the Roman Empire: Professionalism\, Intellectual Pursuit\, Entertainment\, and Socio-Political Competition
DESCRIPTION:Ancient Roman medicine and ancient Roman law have traditio
 nally been viewed by scholars as highly specialized and are\, therefor
 e\, often studied in isolation. This conference will juxtapose the two
  fields and place them\, as a pair\, back into their wider ancient con
 text. The first day of the conference will delimit this wider context\
 , probing the topics of competition\, rhetoric\, professionalism\, and
  literature in the period of the Roman Empire. The second day will hig
 hlight the uniquely interesting affinities between the fields\, which 
 are nevertheless squarely apiece with the trends of their time. Please
  note that separate registration is required for DAY ONE (10/3/19) and
  DAY TWO (10/4/19)\, and please note that DAY ONE will take place NYU 
 Kimmel/Global Center and DAY TWO will take place at ISAW.
LOCATION:ISAW Lecture Hall
PRIORITY:3
TRANSP:0
END:VEVENT
END:VCALENDAR
