BEGIN:VCALENDAR
PRODID:-//AT Content Types//AT Event//EN
VERSION:1.0
BEGIN:VEVENT
DTSTART:20171214T230000Z
DTEND:20171215T003000Z
DCREATED:20171218T164346Z
UID:ATEvent-b15a3107341447bc98824a77acd764f3
SEQUENCE:0
LAST-MODIFIED:20180906T192351Z
SUMMARY:ARCE Lecture: Tricks of the Trade
DESCRIPTION:While working in the per-ankh or "house of life" where vas
 t repositories of manuscripts were kept\, Egyptian scribes made every 
 effort to transmit ancient knowledge through Egyptian history. Over th
 e course of several millennia\, these individuals were confronted with
  damaged papyri\, misinterpreted passages\, and language difficulties.
  In this talk\, I will look at the tools that were developed by those 
 ancient intellectuals to overcome those problems and preserve Egyptian
  cultural materials even in the face of foreign rule in the first mill
 enniums BCE and CE.
LOCATION:ISAW Lecture Hall
PRIORITY:3
TRANSP:0
END:VEVENT
END:VCALENDAR
