BEGIN:VCALENDAR
PRODID:-//AT Content Types//AT Event//EN
VERSION:2.0
METHOD:PUBLISH
BEGIN:VEVENT
DTSTAMP:20260419T155140Z
CREATED:20170303T152231Z
UID:ATEvent-667a0ff12d00427e90d5062edbbd5f6b
LAST-MODIFIED:20180201T180800Z
SUMMARY:Rostovtzeff Lecture Series Egyptian versus Greek in Late Antique Egypt: The Struggle of Coptic for an Official Status\, III
DTSTART:20170405T220000Z
DTEND:20170405T233000Z
DESCRIPTION:In the middle of the 6th century\, Coptic began to be used
  in a limited way for some documents other than purely private letters
  or accounts. Cultural and political considerations may account for th
 e progressive use of Coptic for legal documents\, but the key to this 
 linguistic revolution must be sought in the situation of the judicial 
 state institutions after Justinian and before the Arab Conquest.
LOCATION:ISAW Lecture Hall
CONTACT:isaw@nyu.edu
CLASS:PUBLIC
END:VEVENT
END:VCALENDAR
