BEGIN:VCALENDAR
PRODID:-//AT Content Types//AT Event//EN
VERSION:2.0
METHOD:PUBLISH
BEGIN:VEVENT
DTSTAMP:20260419T160206Z
CREATED:20170303T152147Z
UID:ATEvent-be2ee0c984764bd2b52ccf37e8644943
LAST-MODIFIED:20170609T194312Z
SUMMARY:Rostovtzeff Lecture Series Egyptian versus Greek in Late Antique Egypt: The Struggle of Coptic for an Official Status\, II
DTSTART:20170329T220000Z
DTEND:20170329T233000Z
DESCRIPTION:This lecture will outline several possible reasons for the
  late development of official Coptic. Possible reasons include the nat
 ure of the language itself\, the prestige enjoyed by the Greek languag
 e\, the milieu of Coptic’s creation\, and the longstanding distrust 
 of the Greek-speaking State towards the legal use of Egyptian.
LOCATION:ISAW Lecture Hall
CONTACT:isaw@nyu.edu
CLASS:PUBLIC
END:VEVENT
END:VCALENDAR
