BEGIN:VCALENDAR
PRODID:-//AT Content Types//AT Event//EN
VERSION:1.0
BEGIN:VEVENT
DTSTART:20170227T143000Z
DTEND:20170227T220000Z
DCREATED:20170222T180907Z
UID:ATEvent-f1aeea99e3ce47fa9101fdb407c03db6
SEQUENCE:0
LAST-MODIFIED:20170609T194312Z
SUMMARY:Cosmos\, East and West: Astral Sciences in South and East Asia and Their Interaction with the Greco-Roman World
DESCRIPTION:The conference is now fully booked. We are no longer accep
 ting RSVPs or names for the waitlist.
LOCATION:ISAW Lecture Hall
PRIORITY:3
TRANSP:0
END:VEVENT
END:VCALENDAR
