BEGIN:VCALENDAR
PRODID:-//AT Content Types//AT Event//EN
VERSION:2.0
METHOD:PUBLISH
BEGIN:VEVENT
DTSTAMP:20260422T185015Z
CREATED:20161104T193925Z
UID:ATEvent-cfb010773b1048e5b72d5a59f1c63273
LAST-MODIFIED:20161104T201817Z
SUMMARY:Rostovtzeff Lecture Series: Silk Roads and Steppe Roads of Medieval China: History Unearthed from Tombs\, I
DTSTART:20160329T220000Z
DTEND:20160329T231500Z
DESCRIPTION:This lecture\, the first in a series of four Rostovtzeff L
 ectures during spring 2016\, introduces the Silk Roads through a case 
 study of Sogdians living as a minority at the Chinese oasis city of Tu
 rfan in the six and seventh centuries. The Sogdians were early inhabit
 ants of modern Uzbekistan and Tajikistan who spoke an Iranian dialect\
 , and began to migrate eastward by the fourth century CE to settle in 
 cities and towns on the Silk Roads. The lecture will update Skaff’s 
 previous publications on Sogdian farmers and merchants at Turfan by co
 nsidering recently-discovered paper documents and epitaphs.
LOCATION:ISAW Lecture Hall
CATEGORIES:video
CONTACT:isaw@nyu.edu
CLASS:PUBLIC
END:VEVENT
END:VCALENDAR
