BEGIN:VCALENDAR
PRODID:-//AT Content Types//AT Event//EN
VERSION:1.0
BEGIN:VEVENT
DTSTART:20160216T230000Z
DTEND:20160217T003000Z
DCREATED:20160105T183623Z
UID:ATEvent-92cea2c459ed43ad9e25574ea2ad65cd
SEQUENCE:0
LAST-MODIFIED:20160105T191634Z
SUMMARY:Shaping Religious Space in Roman and Late Antique Sepphoris
DESCRIPTION:This lecture will focus on the cultic buildings known to d
 ate in Sepphoris -- a Roman temple\, two churches\, and a synagogue --
  and will discuss their implications for the study of the architectura
 l development\, social structure\, religious behavior\, and cultural r
 elationships between the Jews and other segments of society in this la
 te antique city.
LOCATION:ISAW Lecture Hall
PRIORITY:3
TRANSP:0
END:VEVENT
END:VCALENDAR
