BEGIN:VCALENDAR
PRODID:-//AT Content Types//AT Event//EN
VERSION:2.0
METHOD:PUBLISH
BEGIN:VEVENT
DTSTAMP:20260424T140245Z
CREATED:20150504T151507Z
UID:ATEvent-48d051e03af847ad92aff522c05e159e
LAST-MODIFIED:20150519T210459Z
SUMMARY:Translating the Past\, (Re-)shaping History?: Translation Issues in Late Antique and Medieval Christian Historiographical Sources in the Middle East
DTSTART:20150530T140000Z
DTEND:20150530T210000Z
LOCATION:2nd Floor Lecture Hall\, ISAW
CLASS:PUBLIC
END:VEVENT
END:VCALENDAR
