BEGIN:VCALENDAR
PRODID:-//AT Content Types//AT Event//EN
VERSION:2.0
METHOD:PUBLISH
BEGIN:VEVENT
DTSTAMP:20260419T154448Z
CREATED:20150303T212730Z
UID:ATEvent-3e06312d90de41d295b735b33de3af9c
LAST-MODIFIED:20150303T212821Z
SUMMARY:Rostovtzeff Lecture Series: Sumer in the Mesopotamian World: Reading Traditions & Traditions of Reading\, I
DTSTART:20150310T220000Z
DTEND:20150310T230000Z
LOCATION:2nd Floor Lecture Hall
CLASS:PUBLIC
END:VEVENT
END:VCALENDAR
