BEGIN:VCALENDAR
PRODID:-//AT Content Types//AT Event//EN
VERSION:2.0
METHOD:PUBLISH
BEGIN:VEVENT
DTSTAMP:20260419T154534Z
CREATED:20150303T202521Z
UID:ATEvent-669df880632d41d6b00acadc76691aea
LAST-MODIFIED:20150303T202712Z
SUMMARY:Rostovtzeff Lecture Series: Sumer in the Mesopotamian World: Reading Traditions & Traditions of Reading\, IV
DTSTART:20150326T220000Z
DTEND:20150326T230000Z
LOCATION:2nd Floor Lecture Hall
CLASS:PUBLIC
END:VEVENT
END:VCALENDAR
