BEGIN:VCALENDAR
PRODID:-//AT Content Types//AT Event//EN
VERSION:2.0
METHOD:PUBLISH
BEGIN:VEVENT
DTSTAMP:20260421T151803Z
CREATED:20150323T202747Z
UID:ATEvent-d759cb278c1d45cfb25e56a8775619b5
LAST-MODIFIED:20150324T162733Z
SUMMARY:The Mesopotamian Economic Boom and Emergence of the First Cities in the Late Chalcolithic Period (4200-3100 BC)
DTSTART:20150429T220000Z
DTEND:20150429T230000Z
LOCATION:2nd Floor Lecture Hall\, ISAW
CLASS:PUBLIC
END:VEVENT
END:VCALENDAR
