BEGIN:VCALENDAR
PRODID:-//AT Content Types//AT Event//EN
VERSION:1.0
BEGIN:VEVENT
DTSTART:20150417T140000Z
DTEND:20150417T204500Z
DCREATED:20150316T143443Z
UID:ATEvent-26404ed5e155400fa89c6b4fec3a1049
SEQUENCE:0
LAST-MODIFIED:20150421T141628Z
SUMMARY:Life at the Margins: Questions in Ancient Near Eastern Social History
LOCATION:2nd Floor Lecture Hall\, ISAW
PRIORITY:3
TRANSP:0
END:VEVENT
END:VCALENDAR
