BEGIN:VCALENDAR
PRODID:-//AT Content Types//AT Event//EN
VERSION:1.0
BEGIN:VEVENT
DTSTART:20140408T220000Z
DTEND:20140408T230000Z
DCREATED:20150301T012833Z
UID:ATEvent-d75b294d63234dad8ef123a743064d70
SEQUENCE:0
LAST-MODIFIED:20160203T183927Z
SUMMARY:The Elusive Persian Phoenix: On the Identification of the Simurgh and  Khvarenah in the Art of Pre-Islamic Iran
LOCATION:2nd Floor Lecture Hall
PRIORITY:3
TRANSP:0
END:VEVENT
END:VCALENDAR
