BEGIN:VCALENDAR
PRODID:-//AT Content Types//AT Event//EN
VERSION:2.0
METHOD:PUBLISH
BEGIN:VEVENT
DTSTAMP:20260419T160327Z
CREATED:20150301T012833Z
UID:ATEvent-16d39fecafe7497ab312d90ce67f06a5
LAST-MODIFIED:20160203T203621Z
SUMMARY:Fifth Annual M.I. Rostovtzeff Lecture Series - Displacements: Migration\, Mobility\, and Material Culture in the West Mediterranean
DTSTART:20140331T220000Z
DTEND:20140331T230000Z
DESCRIPTION:In the fourth and final lecture of the series\, I draw att
 ention to the nature of connections forged by migration and the commun
 ities that created and maintained these links.
LOCATION:2nd Floor Lecture Hall
CLASS:PUBLIC
END:VEVENT
END:VCALENDAR
