BEGIN:VCALENDAR
PRODID:-//AT Content Types//AT Event//EN
VERSION:2.0
METHOD:PUBLISH
BEGIN:VEVENT
DTSTAMP:20260419T160326Z
CREATED:20150301T012831Z
UID:ATEvent-18910670913f4d7eb01f19ced3d355db
LAST-MODIFIED:20160203T203811Z
SUMMARY:Fifth Annual M.I. Rostovtzeff Lecture Series - Displacements: Migration\, Mobility\, and Material Culture in the West Mediterranean
DTSTART:20140317T220000Z
DTEND:20140317T230000Z
DESCRIPTION:Discussions of migration have tended to privilege the bigg
 er picture and long-distance connections\, drawing lines between the d
 ots\, now mostly relabeled as ‘nodes’. There has been very little 
 consideration\, however\, of what or rather who made up those dots and
 \, most of all\, how connections were forged and maintained at those c
 ritical places. In the second lecture of the series\, I focus on preci
 sely these locales and examine why people were attracted by these part
 icular places and how migrants interacted with local inhabitants to bu
 ild new lives.
LOCATION:2nd Floor Lecture Hall
CLASS:PUBLIC
END:VEVENT
END:VCALENDAR
