BEGIN:VCALENDAR
PRODID:-//AT Content Types//AT Event//EN
VERSION:2.0
METHOD:PUBLISH
BEGIN:VEVENT
DTSTAMP:20260419T160223Z
CREATED:20150301T012816Z
UID:ATEvent-c42ea13713b34c1c99653b93aa6f65aa
LAST-MODIFIED:20160203T213440Z
SUMMARY:Fourth Annual M.I. Rostovtzeff Lecture Series - The Sovereign Assemblage: Sense\, Sensibility\, and Sentiment in the Bronze Age Caucasus
DTSTART:20130429T220000Z
DTEND:20130430T000000Z
DESCRIPTION:The last lecture of the series explores the production of 
 the final condition of sovereignty in the South Caucasus by a novel ap
 paratus of regulation: the political machine.
LOCATION:2nd Floor Lecture Hall
CLASS:PUBLIC
END:VEVENT
END:VCALENDAR
