BEGIN:VCALENDAR
PRODID:-//AT Content Types//AT Event//EN
VERSION:2.0
METHOD:PUBLISH
BEGIN:VEVENT
DTSTAMP:20260420T173643Z
CREATED:20150301T012847Z
UID:ATEvent-c8a8b484463649cf8c57ac9cbb121bdf
LAST-MODIFIED:20160203T212318Z
SUMMARY:Ancient and Modern Perspectives on Historiography in Mesopotamia
DTSTART:20130412T133000Z
DTEND:20130412T213000Z
LOCATION:2nd Floor Lecture Hall
CLASS:PUBLIC
END:VEVENT
END:VCALENDAR
