BEGIN:VCALENDAR
PRODID:-//AT Content Types//AT Event//EN
VERSION:2.0
METHOD:PUBLISH
BEGIN:VEVENT
DTSTAMP:20260423T155806Z
CREATED:20150301T012848Z
UID:ATEvent-22ed616695574a55b96164f1fe61f0ac
LAST-MODIFIED:20160203T212318Z
SUMMARY:Afghanistan's Cultural Heritage: A Conference in Honor of Omara Khan Masoudi
DTSTART:20130523T170000Z
DTEND:20130523T213000Z
LOCATION:2nd Floor Lecture Hall
CLASS:PUBLIC
END:VEVENT
END:VCALENDAR
