BEGIN:VCALENDAR
PRODID:-//AT Content Types//AT Event//EN
VERSION:2.0
METHOD:PUBLISH
BEGIN:VEVENT
DTSTAMP:20260422T083039Z
CREATED:20150301T012753Z
UID:ATEvent-d197151b296c45198ff546f747b75af1
LAST-MODIFIED:20160205T232156Z
SUMMARY:Visiting Research Scholar Lecture: Merging the boundaries
DTSTART:20120321T000000Z
DTEND:20120321T020000Z
LOCATION:2nd floor Lecture Hall
CLASS:PUBLIC
END:VEVENT
END:VCALENDAR
