BEGIN:VCALENDAR
PRODID:-//AT Content Types//AT Event//EN
VERSION:2.0
METHOD:PUBLISH
BEGIN:VEVENT
DTSTAMP:20260419T150552Z
CREATED:20150301T012758Z
UID:ATEvent-10f4e1e3bc2049b69e74634e9700752c
LAST-MODIFIED:20160203T230545Z
SUMMARY:On the Edge of an Empire: Kyzyltepa Project (2010-11 Seasons)
DTSTART:20120417T000000Z
DTEND:20120417T010000Z
LOCATION:2nd floor Lecture Hall
CLASS:PUBLIC
END:VEVENT
END:VCALENDAR
