BEGIN:VCALENDAR
PRODID:-//AT Content Types//AT Event//EN
VERSION:1.0
BEGIN:VEVENT
DTSTART:20110603T000000Z
DTEND:20110603T010000Z
DCREATED:20150301T012729Z
UID:ATEvent-c6681c431ac843a4ab5fe86aa7e553d7
SEQUENCE:0
LAST-MODIFIED:20160205T131109Z
SUMMARY:The Nomadic Element in the Kushan Empire in Light of New Documents
LOCATION:Second Floor Lecture Hall
PRIORITY:3
TRANSP:0
END:VEVENT
END:VCALENDAR
